BEGIN:VCALENDAR
VERSION:2.0
PRODID:-//CERN//INDICO//EN
BEGIN:VEVENT
SUMMARY:ANF MITI - DevLOG - Créer une application web complète avec le F
 ramework FLASK (Python)
DTSTART:20260922T063000Z
DTEND:20260925T113000Z
DTSTAMP:20260420T084000Z
UID:indico-event-846@indico.mathrice.fr
DESCRIPTION:Objectifs\nProduire une application web complète avec le Micr
 o-Framework Flask (Python)\nPublic\n• Ingénieur logiciel : Développeur
  d’applications\, chef de projet\, … (BAP E)\n• Administrateur syst
 ème et réseaux\, administrateur de base de données\, chargé de recherc
 he\, …\n• Tous ceux qui souhaite construire un site web pour exposer e
 t manipuler des données\nPré-requis\n• Connaissance du fonctionnement 
 du web (HTML / CSS / JS)\n• Connaissance basique du Python uniquement (B
 oucle (for) / Condition (if) et fonction) \n• Ordinateur portable profe
 ssionnel équipé d’un IDE Python (PyCharm\, VSCode\, …)\nProgramme\n\
 nAxe 1 : Prise en main de Flask (Routes / Template / Session / Logging …
 )\nAxe 2 : Ajout de modules à mon application Flask (Mail / Form / Auth /
  ORM / Admin …)\nAxe 3 : Package de mon application Flask (pour le parta
 ge et surtout le déploiement)\n\nMéthodes pédagogiques\n\nPrésentation
  (diapos) de chaque notion suivie d’un TP par notion\nLes TP se suivent 
 dans un projet « fil rouge » formant une application complète\n\nRest
 auration et hébergement :\nTous les repas du lundi 21 septembre au soir a
 u vendredi 25 septembre midi sont pris en charge dans le cadre de l'ANF.\n
 Les 4 nuitées (arrivée le 21 et départ le 25 septembre) sont prises en 
 charge dans le cadre de l'ANF.\nLa formation accueillera 25 participants e
 t débutera le mardi 22 septembre à 8h30 et finira le vendredi 25 septemb
 re à 13h30 au Centre Paul-Langevin (Aussois) CAES du CNRS\nDes frais d'in
 scription à hauteur de 380€ HT sont prévus pour les agents non CNRS.\n
 Transport :\nPour les agents CNRS\, les frais de déplacement sont à la c
 harge de votre délégation régionale jusqu'à la gare de Modane.\nPour l
 es agents non CNRS\, ces frais sont à la charge de votre employeur ou du 
 laboratoire jusqu'à la gare de Modane.\nLe transport de la gare de Modane
  au Centre Paul Langevin est inclut dans les frais de formation. Une enqu
 ête dédié sera envoyé au participant (après sélection) et une fois l
 es trains SNCF ouvert\, pour l'organisation de ce transport collectif (Nav
 ette de 8 places).\nInscription :\nPour les agents CNRS\, inscription sur 
 Sygefor\nPour les agents non CNRS\, inscription ici-même sur cet Indico\n
 \nhttps://indico.mathrice.fr/event/846/
LOCATION:CAES du CNRS Centre Paul-Langevin
URL:https://indico.mathrice.fr/event/846/
END:VEVENT
END:VCALENDAR
